BEGIN:VCALENDAR
VERSION:2.0
PRODID:-//hacksw/handcal//NONSGML v1.0//EN
BEGIN:VEVENT
SUMMARY:Entrainement libre
UID:4bf30412-1ec0-4c94-a371-efd1cacd53bf
DTSTART:20260330T170000Z
DTEND:20260330T190000Z
LOCATION:Localisation   
CATEGORIES:Entrainement
STATUS:
URL;VALUE=URI:https://archersetoile.sportsregions.fr/evenements/2026/03/30/entrainement-libre-2437618
END:VEVENT
END:VCALENDAR
