BEGIN:VCALENDAR
VERSION:2.0
PRODID:-//hacksw/handcal//NONSGML v1.0//EN
BEGIN:VEVENT
SUMMARY:Ecole de tir
UID:ef01cbf1-a6e0-40ad-81a7-4e5a9bb59ab7
DTSTART:20260402T163000Z
DTEND:20260402T174500Z
LOCATION:Localisation   
CATEGORIES:Entrainement
STATUS:
URL;VALUE=URI:https://archersetoile.sportsregions.fr/evenements/2026/04/02/ecole-de-tir-2437626
END:VEVENT
END:VCALENDAR
