BEGIN:VCALENDAR
VERSION:2.0
PRODID:-//hacksw/handcal//NONSGML v1.0//EN
BEGIN:VEVENT
SUMMARY:Entrainement libre
UID:fab5c041-3a48-4445-bfd7-e51450aa494c
DTSTART:20260402T174500Z
DTEND:20260402T190000Z
LOCATION:Localisation   
CATEGORIES:Entrainement
STATUS:
URL;VALUE=URI:https://archersetoile.sportsregions.fr/evenements/2026/04/02/entrainement-libre-2437625
END:VEVENT
END:VCALENDAR
