BEGIN:VCALENDAR
VERSION:2.0
PRODID:-//hacksw/handcal//NONSGML v1.0//EN
BEGIN:VEVENT
SUMMARY:Ecole de tir
UID:ba40967c-f5d4-44f0-9c1e-5c4387e048ef
DTSTART:20260408T140000Z
DTEND:20260408T174500Z
LOCATION:Localisation   
CATEGORIES:Entrainement
STATUS:
URL;VALUE=URI:https://archersetoile.sportsregions.fr/evenements/2026/04/08/ecole-de-tir-2437620
END:VEVENT
END:VCALENDAR
