BEGIN:VCALENDAR
VERSION:2.0
PRODID:-//hacksw/handcal//NONSGML v1.0//EN
BEGIN:VEVENT
SUMMARY:Entrainement libre
UID:cca13217-29fb-4054-a1e6-ed48a73a5a64
DTSTART:20260408T174500Z
DTEND:20260408T190000Z
LOCATION:Localisation   
CATEGORIES:Entrainement
STATUS:
URL;VALUE=URI:https://archersetoile.sportsregions.fr/evenements/2026/04/08/entrainement-libre-2437624
END:VEVENT
END:VCALENDAR
