BEGIN:VCALENDAR
VERSION:2.0
PRODID:-//hacksw/handcal//NONSGML v1.0//EN
BEGIN:VEVENT
SUMMARY:Ecole de tir
UID:84fd8993-55bf-4f16-abb6-b4e74d9698db
DTSTART:20260409T163000Z
DTEND:20260409T174500Z
LOCATION:Localisation   
CATEGORIES:Entrainement
STATUS:
URL;VALUE=URI:https://archersetoile.sportsregions.fr/evenements/2026/04/09/ecole-de-tir-2437627
END:VEVENT
END:VCALENDAR
