BEGIN:VCALENDAR
VERSION:2.0
PRODID:-//hacksw/handcal//NONSGML v1.0//EN
BEGIN:VEVENT
SUMMARY:Ecole de tir
UID:ba709968-c17c-49f5-bc0f-1d9a600717e9
DTSTART:20260509T140000Z
DTEND:20260509T170000Z
LOCATION:Localisation   
CATEGORIES:Entrainement
STATUS:
URL;VALUE=URI:https://archersetoile.sportsregions.fr/evenements/2026/05/09/ecole-de-tir-2437633
END:VEVENT
END:VCALENDAR
