BEGIN:VCALENDAR
VERSION:2.0
PRODID:-//hacksw/handcal//NONSGML v1.0//EN
BEGIN:VEVENT
SUMMARY:Ecole de tir
UID:348fa3e0-0b90-4461-9114-a0e6f4b5b624
DTSTART:20260513T140000Z
DTEND:20260513T170000Z
LOCATION:Localisation   
CATEGORIES:Entrainement
STATUS:
URL;VALUE=URI:https://archersetoile.sportsregions.fr/evenements/2026/05/13/ecole-de-tir-2437632
END:VEVENT
END:VCALENDAR
