BEGIN:VCALENDAR
VERSION:2.0
PRODID:-//hacksw/handcal//NONSGML v1.0//EN
BEGIN:VEVENT
SUMMARY:Entrainement libre
UID:9f0bcf94-2e3f-4892-86f9-8b04c7c347a2
DTSTART:20260701T170000Z
DTEND:20260701T200000Z
LOCATION:Localisation   
CATEGORIES:Entrainement
STATUS:
URL;VALUE=URI:https://archersetoile.sportsregions.fr/evenements/2026/07/01/entrainement-libre-2437669
END:VEVENT
END:VCALENDAR
